BEGIN:VCALENDAR
VERSION:2.0
PRODID:-//Drive Clean Indiana - ECPv4.9.13//NONSGML v1.0//EN
CALSCALE:GREGORIAN
METHOD:PUBLISH
X-WR-CALNAME:Drive Clean Indiana
X-ORIGINAL-URL:https://drivecleanindiana.org
X-WR-CALDESC:Events for Drive Clean Indiana
BEGIN:VTIMEZONE
TZID:America/Chicago
BEGIN:DAYLIGHT
TZOFFSETFROM:-0600
TZOFFSETTO:-0500
TZNAME:CDT
DTSTART:20240310T080000
END:DAYLIGHT
BEGIN:STANDARD
TZOFFSETFROM:-0500
TZOFFSETTO:-0600
TZNAME:CST
DTSTART:20241103T070000
END:STANDARD
END:VTIMEZONE
BEGIN:VEVENT
DTSTART;VALUE=DATE:20240417
DTEND;VALUE=DATE:20240418
DTSTAMP:20260423T091441
CREATED:20240411T150123Z
LAST-MODIFIED:20240411T150123Z
UID:24513-1713312000-1713398399@drivecleanindiana.org
SUMMARY:April 17 - Official Public Hearing for MTP & TIP Amendments and TIP Project Funding Recommendations at the Transportation Policy Committee
DESCRIPTION:April 17 – Official Public Hearing for MTP & TIP Amendments and TIP Project Funding Recommendations at the Transportation Policy Committee \nThe IMPO has multiple public comment periods and public hearings that are open or coming soon. \nFind more information HERE! \n
URL:https://drivecleanindiana.org/event/april-17-official-public-hearing-for-mtp-tip-amendments-and-tip-project-funding-recommendations-at-the-transportation-policy-committee/
ATTACH;FMTTYPE=image/png:https://drivecleanindiana.org/wp-content/uploads/2024/04/MPO-Logo-Color-300px-1-inch-_square_.png
END:VEVENT
END:VCALENDAR