BEGIN:VCALENDAR
VERSION:2.0
PRODID:-//Drive Clean Indiana - ECPv4.9.13//NONSGML v1.0//EN
CALSCALE:GREGORIAN
METHOD:PUBLISH
X-WR-CALNAME:Drive Clean Indiana
X-ORIGINAL-URL:https://drivecleanindiana.org
X-WR-CALDESC:Events for Drive Clean Indiana
BEGIN:VTIMEZONE
TZID:America/Chicago
BEGIN:DAYLIGHT
TZOFFSETFROM:-0600
TZOFFSETTO:-0500
TZNAME:CDT
DTSTART:20240310T080000
END:DAYLIGHT
BEGIN:STANDARD
TZOFFSETFROM:-0500
TZOFFSETTO:-0600
TZNAME:CST
DTSTART:20241103T070000
END:STANDARD
END:VTIMEZONE
BEGIN:VEVENT
DTSTART;VALUE=DATE:20240401
DTEND;VALUE=DATE:20240416
DTSTAMP:20260423T091359
CREATED:20240411T145405Z
LAST-MODIFIED:20240411T145405Z
UID:24507-1711929600-1713225599@drivecleanindiana.org
SUMMARY:April 1-15 - Public Comment Period on Metropolitan Transportation Plan (MTP) Amendments and Conformity Report
DESCRIPTION:April 1-15 – Public Comment Period on Metropolitan Transportation Plan (MTP) Amendments and Conformity Report \nThe IMPO has multiple public comment periods and public hearings that are open or coming soon. \nThe MPO’s Metropolitan Transportation Plan (MTP) guides the area’s metropolitan transportation systems over the next 20 years. With the help of transportation planners\, engineers\, elected officials and the public\, the plan ensures facilities and services required to support the mobility needs of the regional community and its future growth are anticipated and available. \nREAD MORE HERE! \n  \n
URL:https://drivecleanindiana.org/event/april-1-15-public-comment-period-on-metropolitan-transportation-plan-mtp-amendments-and-conformity-report/
ATTACH;FMTTYPE=image/png:https://drivecleanindiana.org/wp-content/uploads/2024/04/MPO-Logo-Color-300px-1-inch-_square_.png
END:VEVENT
END:VCALENDAR