BEGIN:VCALENDAR
VERSION:2.0
PRODID:-//Drive Clean Indiana - ECPv4.9.13//NONSGML v1.0//EN
CALSCALE:GREGORIAN
METHOD:PUBLISH
X-WR-CALNAME:Drive Clean Indiana
X-ORIGINAL-URL:https://drivecleanindiana.org
X-WR-CALDESC:Events for Drive Clean Indiana
BEGIN:VTIMEZONE
TZID:America/Indiana/Indianapolis
BEGIN:DAYLIGHT
TZOFFSETFROM:-0500
TZOFFSETTO:-0400
TZNAME:EDT
DTSTART:20230312T070000
END:DAYLIGHT
BEGIN:STANDARD
TZOFFSETFROM:-0400
TZOFFSETTO:-0500
TZNAME:EST
DTSTART:20231105T060000
END:STANDARD
END:VTIMEZONE
BEGIN:VEVENT
DTSTART;TZID=America/Indiana/Indianapolis:20230725T080000
DTEND;TZID=America/Indiana/Indianapolis:20230725T100000
DTSTAMP:20260422T012700
CREATED:20230706T200206Z
LAST-MODIFIED:20230706T200320Z
UID:23769-1690272000-1690279200@drivecleanindiana.org
SUMMARY:July 25\, 2023 - Tuesday @ The Tech What's New in EV
DESCRIPTION:July 25\, 2023-8 a.m.-10 a.m. EST – Tuesday @ The Tech What’s New in EV – IVY Tech\, Marion Campus – Conference Center\, Lecture Hall\, 261 S. Commerce Drive\, Marion\, IN \nIvy+ Career Link at Ivy Tech Community College – Marion is inviting you to attend a panel discussion about electric vehicles\, their production\, battery production\, access to charging stations\, and funding opportunities for infrastructure. We will have panelists from Indiana Department of Transportation\, Department of Workforce Development\, Indiana Office of Energy Development\, Drive Clean Indiana\, and more. Come find out about adding charging stations to homes and businesses\, demand for energy\, and how our communities can be involved in the progress. \nRegister by contacting Alicia Hazelwood at 765.651.3100 X3337 or ahazelwood11@ivytech.edu. \n
URL:https://drivecleanindiana.org/event/23769/
LOCATION:Ivy Tech Marion Campus\, 261 S. Commerce Drive\, Marion\, IN\, United States
ATTACH;FMTTYPE=image/jpeg:https://drivecleanindiana.org/wp-content/uploads/2023/07/Ivy-tech-ev-event-2023.jpg
END:VEVENT
END:VCALENDAR