BEGIN:VCALENDAR
VERSION:2.0
PRODID:-//Drive Clean Indiana - ECPv4.9.13//NONSGML v1.0//EN
CALSCALE:GREGORIAN
METHOD:PUBLISH
X-WR-CALNAME:Drive Clean Indiana
X-ORIGINAL-URL:https://drivecleanindiana.org
X-WR-CALDESC:Events for Drive Clean Indiana
BEGIN:VTIMEZONE
TZID:America/Chicago
BEGIN:DAYLIGHT
TZOFFSETFROM:-0600
TZOFFSETTO:-0500
TZNAME:CDT
DTSTART:20230312T080000
END:DAYLIGHT
BEGIN:STANDARD
TZOFFSETFROM:-0500
TZOFFSETTO:-0600
TZNAME:CST
DTSTART:20231105T070000
END:STANDARD
END:VTIMEZONE
BEGIN:VEVENT
DTSTART;TZID=America/Chicago:20230131T100000
DTEND;TZID=America/Chicago:20230131T110000
DTSTAMP:20260424T104806
CREATED:20230111T213906Z
LAST-MODIFIED:20230112T181829Z
UID:23102-1675159200-1675162800@drivecleanindiana.org
SUMMARY:January 31\, 2023 Drive Clean Indiana/Indiana Office of Energy Development Webinar for Community Energy Security Planning Grant Program
DESCRIPTION:Drive Clean Indiana and Indiana Office of Energy Development are hosting a webinar\, January 31\, 2023 for interested parties applying for the OED’s Community Energy Security Planning Grant Program.\n\nThe Indiana Office of Energy Development (OED) is offering a competitive Community Energy Security Planning Grant. Local governments and communities throughout the state can take advantage of this opportunity to enhance energy reliability and resilience at a local level by developing or enhancing energy security planning efforts\, with a focus on critical infrastructure. Funding for this grant comes from the U.S. Department of Energy (DOE) and is administered by Indiana OED to assist communities in assessing and preparing for energy security through comprehensive planning.\n\n\n
URL:https://drivecleanindiana.org/event/01-31-23-drive-clean-indiana-indiana-office-of-energy-development-webinar-for-community-energy-security-planning-grant-program/
ATTACH;FMTTYPE=image/png:https://drivecleanindiana.org/wp-content/uploads/2023/01/OED-DCI-Webinar-logo-01.31.23.png
END:VEVENT
END:VCALENDAR